BEGIN:VCALENDAR
VERSION:2.0
PRODID:http://www.sttv-berne.de/
METHOD:PUBLISH
BEGIN:VEVENT
UID:1001@sttv-berne.de
ORGANIZER;CN=Hauke Hayen:MAILTO:haukehayen@gmail.com
SUMMARY:Abgrillen Männer
LOCATION:Vereinsheim
DESCRIPTION:Abgrillen Männer
CLASS:PUBLIC
DTSTART:2026-10-31T16:00:00
DTEND:2026-10-31T23:31:00
DTSTAMP:2026-03-04T09:33:37
CREATED:2026-03-04T09:33:37
LAST-MODIFIED:2026-03-04T09:33:37
END:VEVENT
END:VCALENDAR
